BEGIN:VCALENDAR
VERSION:2.0
PRODID:-//KidStage Colorado - ECPv4.9.13//NONSGML v1.0//EN
CALSCALE:GREGORIAN
METHOD:PUBLISH
X-WR-CALNAME:KidStage Colorado
X-ORIGINAL-URL:https://www.kidstage.net/colorado
X-WR-CALDESC:Events for KidStage Colorado
BEGIN:VTIMEZONE
TZID:America/Denver
BEGIN:DAYLIGHT
TZOFFSETFROM:-0700
TZOFFSETTO:-0600
TZNAME:MDT
DTSTART:20260308T090000
END:DAYLIGHT
BEGIN:STANDARD
TZOFFSETFROM:-0600
TZOFFSETTO:-0700
TZNAME:MST
DTSTART:20261101T080000
END:STANDARD
END:VTIMEZONE
BEGIN:VEVENT
DTSTART;TZID=America/Denver:20260429T153000
DTEND;TZID=America/Denver:20260429T170000
DTSTAMP:20260422T104610
CREATED:20260303T230232Z
LAST-MODIFIED:20260401T214020Z
UID:68360-1777476600-1777482000@www.kidstage.net
SUMMARY:Wildcat Mountain (Wednesdays): Apr 1 - May 20
DESCRIPTION:Show Date: May 20\, 2026 at 6:30pm \n
URL:https://www.kidstage.net/colorado/event/wildcat-mountain-wednesdays-apr-1-may-20/2026-04-29/
LOCATION:Wildcat Mountain Elementary\, 6585 Lionshead Pkwy\, Littleton\, CO\, 80124\, United States
CATEGORIES:Douglas County Schools,Courses
ORGANIZER;CN="Tom%20Willard":MAILTO:tom.willard@kidstage.net
GEO:39.525397;-104.909526
X-APPLE-STRUCTURED-LOCATION;VALUE=URI;X-ADDRESS=Wildcat Mountain Elementary 6585 Lionshead Pkwy Littleton CO 80124 United States;X-APPLE-RADIUS=500;X-TITLE=6585 Lionshead Pkwy:geo:-104.909526,39.525397
END:VEVENT
END:VCALENDAR