BEGIN:VCALENDAR
VERSION:2.0
PRODID:-//KidStage Colorado - ECPv4.9.13//NONSGML v1.0//EN
CALSCALE:GREGORIAN
METHOD:PUBLISH
X-WR-CALNAME:KidStage Colorado
X-ORIGINAL-URL:https://www.kidstage.net/colorado
X-WR-CALDESC:Events for KidStage Colorado
BEGIN:VTIMEZONE
TZID:America/Denver
BEGIN:DAYLIGHT
TZOFFSETFROM:-0700
TZOFFSETTO:-0600
TZNAME:MDT
DTSTART:20260308T090000
END:DAYLIGHT
BEGIN:STANDARD
TZOFFSETFROM:-0600
TZOFFSETTO:-0700
TZNAME:MST
DTSTART:20261101T080000
END:STANDARD
END:VTIMEZONE
BEGIN:VEVENT
DTSTART;TZID=America/Denver:20260423T153000
DTEND;TZID=America/Denver:20260423T171500
DTSTAMP:20260422T103943
CREATED:20260303T230511Z
LAST-MODIFIED:20260303T230511Z
UID:68370-1776958200-1776964500@www.kidstage.net
SUMMARY:Redstone (Thursdays): Mar 26 - May 7
DESCRIPTION:Show Date: May 7\, 2026 at 6:30pm \n
URL:https://www.kidstage.net/colorado/event/redstone-thursdays-mar-26-may-7/2026-04-23/
LOCATION:Redstone Elementary\, 9970 Glenstone Cir\, Highlands Ranch\, CO\, 80130\, United States
CATEGORIES:Douglas County Schools,Courses
ORGANIZER;CN="Tom%20Willard":MAILTO:tom.willard@kidstage.net
GEO:39.5339745;-104.919526
X-APPLE-STRUCTURED-LOCATION;VALUE=URI;X-ADDRESS=Redstone Elementary 9970 Glenstone Cir Highlands Ranch CO 80130 United States;X-APPLE-RADIUS=500;X-TITLE=9970 Glenstone Cir:geo:-104.919526,39.5339745
END:VEVENT
END:VCALENDAR